BEGIN:VCALENDAR
VERSION:2.0
PRODID:-//Nachsommer Schweinfurt - ECPv5.8.1//NONSGML v1.0//EN
CALSCALE:GREGORIAN
METHOD:PUBLISH
X-WR-CALNAME:Nachsommer Schweinfurt
X-ORIGINAL-URL:https://www.nachsommer.de
X-WR-CALDESC:Veranstaltungen für Nachsommer Schweinfurt
BEGIN:VTIMEZONE
TZID:Europe/Berlin
BEGIN:DAYLIGHT
TZOFFSETFROM:+0100
TZOFFSETTO:+0200
TZNAME:CEST
DTSTART:20240331T010000
END:DAYLIGHT
BEGIN:STANDARD
TZOFFSETFROM:+0200
TZOFFSETTO:+0100
TZNAME:CET
DTSTART:20241027T010000
END:STANDARD
END:VTIMEZONE
BEGIN:VEVENT
DTSTART;TZID=Europe/Berlin:20240907T193000
DTEND;TZID=Europe/Berlin:20240907T213000
DTSTAMP:20260421T121134
CREATED:20240627T082304Z
LAST-MODIFIED:20240702T094722Z
UID:3191-1725737400-1725744600@www.nachsommer.de
SUMMARY:Moving Shadows – „Our World“
DESCRIPTION:Ein Schattentheater\, das alles in den Schatten stellt!\nTICKETS \nNach ihrem Sieg beim französischen Supertalent haben die Mobilés mit ihren „Moving Shadows“ das Publikum weltweit begeistert. Sieben Artisten\, eine Leinwand\, dazu Licht und Musik\, mehr braucht es nicht für diese traumhafte Reise. Die Moving Shadows kreieren mit erstaunlicher Präzision und verblüffender Leichtigkeit einen poesievollen Bilderreigen aus fließenden Körpern\, wirbeln temperamentvoll ins Licht und verschwinden wieder in der geheimnisvollen Tiefe des Raumes. Hinter der Leinwand verschmelzen ihre Körper zu Landschaften\, Tieren und Gebäuden\, vor der Leinwand verzaubern die Schatten ihr Publikum. Das virtuose Formenspiel entführt in eine wunderbare Welt und trifft mitten ins Herz. Mit ihrem aktuellen Programm „Our World haben die Mobilés erneut ein rauschendes Fest für die Sinne inszeniert. Liebend\, leidend\, tanzend\, turnend\, poesievoll und witzig verzaubern sie ihr Publikum – schwarz\, weiß und in Farbe. Schatten\, die die Welt begeistern. Es ist noch poesievoller\, kreativer\, verblüffender. Es visualisiert sowohl die Sonnenseiten\, als auch die Schattenseiten unserer Welt in einer unglaublichen Kombination aus Leichtigkeit\, Präzision\, Poesie\, Comedy\, Tanz\, Artistik\, Kunst und Bewegung. LICHT AUS – SPOT AN! Unsere Welt geht uns alle an! \nMit freundlicher Unterstützung von Bauunternehmung Glöckle GmbH und ZF Friedrichshafen AG. \n\n    Mit dem Laden des Videos akzeptieren Sie die Datenschutzerklärung von YouTube.Mehr erfahren  Video laden   YouTube immer entsperren     \n© Petra Kellner \nwww.mobile-theater.de \nSpielort: \nFresenius Medical Care Forum\nsiehe auch Spielorte
URL:https://www.nachsommer.de/event/movingshadows/
LOCATION:Fresenius Medical Care Forum\, Werner-Siemens-Straße 6\, Schweinfurt\, 97424\, Deutschland
CATEGORIES:2024
ATTACH;FMTTYPE=image/jpeg:https://www.nachsommer.de/wp-content/uploads/2024/06/Moving-Shadows-Our-World-Pressefoto-B-©-Michaela-Koehler-Schaer.jpg
END:VEVENT
END:VCALENDAR