BEGIN:VCALENDAR
VERSION:2.0
PRODID:-//Nachsommer Schweinfurt - ECPv5.8.1//NONSGML v1.0//EN
CALSCALE:GREGORIAN
METHOD:PUBLISH
X-WR-CALNAME:Nachsommer Schweinfurt
X-ORIGINAL-URL:https://www.nachsommer.de
X-WR-CALDESC:Veranstaltungen für Nachsommer Schweinfurt
BEGIN:VTIMEZONE
TZID:Europe/Berlin
BEGIN:DAYLIGHT
TZOFFSETFROM:+0100
TZOFFSETTO:+0200
TZNAME:CEST
DTSTART:20230326T010000
END:DAYLIGHT
BEGIN:STANDARD
TZOFFSETFROM:+0200
TZOFFSETTO:+0100
TZNAME:CET
DTSTART:20231029T010000
END:STANDARD
END:VTIMEZONE
BEGIN:VEVENT
DTSTART;TZID=Europe/Berlin:20230923T193000
DTEND;TZID=Europe/Berlin:20230923T213000
DTSTAMP:20260421T144531
CREATED:20230526T081920Z
LAST-MODIFIED:20230802T152728Z
UID:3099-1695497400-1695504600@www.nachsommer.de
SUMMARY:Mayito Rivera
DESCRIPTION:& Sons of Cuba\nTICKETS \nKubanische Rhythmen und karibisches Lebensgefühl pur bringt Mayito Rivera\, einer der bedeutendsten zeitgenössischen Sänger Kubas\, in das Fresenius Medical Care Forum. Als Frontsänger der berühmten Cuba-Band Los Van Van wurde Rivera bekannt und wirkte über 20 Jahre mit dem Ensemble zusammen. Seit Beginn seiner Solo-Karriere 2011 geht Rivera mit seiner Band Sons of Cuba\, einem Sextett aus jungen Spitzenmusikern Kubas\, eigene Wege. Die einzigartige musikalische Klangsprache der Formation bewegt sich zwischen modernem und klassischem Salsa\, Rumba\, Afro- und Timbarhythmen bis hin zu Jazz und Funk. Einem noch größeren Publikum wurde der Sänger als Schauspieler in Wim Wenders Film Sons of Cuba (Buena Vista Next Generation) bekannt. Mehrfach ausgezeichnet und mit internationalen Preisen bedacht ist Riveras Stimme und sein künstlerisches Wirken. \nMit freundlicher Unterstützung von Gemeinschaftskraftwerk Schweinfurt GmbH. \n\n    Mit dem Laden des Videos akzeptieren Sie die Datenschutzerklärung von YouTube.Mehr erfahren  Video laden   YouTube immer entsperren     \n© Petra Kellner \nwww.ringmasters.se \nSpielort: \nFresenius Medical Care Forum\nsiehe auch Spielorte
URL:https://www.nachsommer.de/event/mayitorivera/
LOCATION:Fresenius Medical Care Forum\, Werner-Siemens-Straße 6\, Schweinfurt\, 97424\, Deutschland
CATEGORIES:2023
ATTACH;FMTTYPE=image/jpeg:https://www.nachsommer.de/wp-content/uploads/2023/05/03riviera©PetraKellner.jpg
END:VEVENT
END:VCALENDAR