BEGIN:VCALENDAR
VERSION:2.0
PRODID:-//Nachsommer Schweinfurt - ECPv5.8.1//NONSGML v1.0//EN
CALSCALE:GREGORIAN
METHOD:PUBLISH
X-WR-CALNAME:Nachsommer Schweinfurt
X-ORIGINAL-URL:https://www.nachsommer.de
X-WR-CALDESC:Veranstaltungen für Nachsommer Schweinfurt
BEGIN:VTIMEZONE
TZID:Europe/Berlin
BEGIN:DAYLIGHT
TZOFFSETFROM:+0100
TZOFFSETTO:+0200
TZNAME:CEST
DTSTART:20240331T010000
END:DAYLIGHT
BEGIN:STANDARD
TZOFFSETFROM:+0200
TZOFFSETTO:+0100
TZNAME:CET
DTSTART:20241027T010000
END:STANDARD
END:VTIMEZONE
BEGIN:VEVENT
DTSTART;TZID=Europe/Berlin:20240906T193000
DTEND;TZID=Europe/Berlin:20240906T213000
DTSTAMP:20260421T131955
CREATED:20240627T082250Z
LAST-MODIFIED:20240702T094657Z
UID:3183-1725651000-1725658200@www.nachsommer.de
SUMMARY:Botticelli Baby
DESCRIPTION:„Boah“\nTICKETS \nIn die Sondermülltonne mit Genreschubladen\, selbst auferlegten Stilgrenzen oder sonstigen kreativen Limitierungen! In ihrem einzigartigen Sound-Clash aus Jazz\, Punk\, Blues\, Folk\, Funk\, Balkan und Pop verbinden Botticelli Baby den Freigeist und den Schaffensdrang eines Sandro Botticelli mit dem ungefilterten Rebellen-Spirit und der Unberechenbarkeit des Rock `N Roll. Seit 2013 sucht das nordrhein-westfälische Septett nach immer neuen Ausdrucksformen. Botticelli Baby lieben das Experiment und die kreative Reibung. Mit fast akribischer Detailverliebtheit hantiert das Musikerkollektiv in seinem Essener Outer Rim mit stilistischen Gegensätzen und Widersprüchen. Botticelli Baby befreien den Jazz von seiner elitären Verkopftheit und den Punk von seinem Dosenbier-bekleckerten Schmuddelimage. Angereichert mit Elementen aus Blues\, Folk\, Funk\, Balkan oder Pop entsteht so eine hochexplosive Fusion\, für die man auch praktischerweise gleich die passende Bezeichnung mitliefert: Junk – ein Mix aus Jazz und Punk\, mit dem sich Botticelli Baby schnell einen stabilen Ruf als eine der eigenwilligsten und aufregendsten Formationen in Deutschland und darüber hinaus erspielt haben. Mit ihrem brandneuen Album „Boah“ setzen Botticelli Baby nun den auf ihrem letzten Longplayer „Saft“ \nMit freundlicher Unterstützung von Gemeinschaftskraftwerk Schweinfurt GmbH. \n\n    Mit dem Laden des Videos akzeptieren Sie die Datenschutzerklärung von YouTube.Mehr erfahren  Video laden   YouTube immer entsperren     \n© Petra Kellner \nwww.botticellibaby.com \nSpielort: \nFresenius Medical Care Forum\nsiehe auch Spielorte
URL:https://www.nachsommer.de/event/botticellibaby/
LOCATION:Fresenius Medical Care Forum\, Werner-Siemens-Straße 6\, Schweinfurt\, 97424\, Deutschland
CATEGORIES:2024
ATTACH;FMTTYPE=image/jpeg:https://www.nachsommer.de/wp-content/uploads/2024/06/Botticelli_Baby_c_Martin_Hinse-scaled.jpg
END:VEVENT
END:VCALENDAR